BEGIN:VCALENDAR
VERSION:2.0
PRODID:-//KidVantage - ECPv6.15.17//NONSGML v1.0//EN
CALSCALE:GREGORIAN
METHOD:PUBLISH
X-WR-CALNAME:KidVantage
X-ORIGINAL-URL:https://kidvantagenw.org
X-WR-CALDESC:Events for KidVantage
REFRESH-INTERVAL;VALUE=DURATION:PT1H
X-Robots-Tag:noindex
X-PUBLISHED-TTL:PT1H
BEGIN:VTIMEZONE
TZID:America/Los_Angeles
BEGIN:DAYLIGHT
TZOFFSETFROM:-0800
TZOFFSETTO:-0700
TZNAME:PDT
DTSTART:20230312T100000
END:DAYLIGHT
BEGIN:STANDARD
TZOFFSETFROM:-0700
TZOFFSETTO:-0800
TZNAME:PST
DTSTART:20231105T090000
END:STANDARD
BEGIN:DAYLIGHT
TZOFFSETFROM:-0800
TZOFFSETTO:-0700
TZNAME:PDT
DTSTART:20240310T100000
END:DAYLIGHT
BEGIN:STANDARD
TZOFFSETFROM:-0700
TZOFFSETTO:-0800
TZNAME:PST
DTSTART:20241103T090000
END:STANDARD
BEGIN:DAYLIGHT
TZOFFSETFROM:-0800
TZOFFSETTO:-0700
TZNAME:PDT
DTSTART:20250309T100000
END:DAYLIGHT
BEGIN:STANDARD
TZOFFSETFROM:-0700
TZOFFSETTO:-0800
TZNAME:PST
DTSTART:20251102T090000
END:STANDARD
END:VTIMEZONE
BEGIN:VEVENT
DTSTART;VALUE=DATE:20240503
DTEND;VALUE=DATE:20240608
DTSTAMP:20260421T014258
CREATED:20230424T175816Z
LAST-MODIFIED:20240321T215411Z
UID:3092-1714694400-1717804799@kidvantagenw.org
SUMMARY:10th Annual Diaper Derby!
DESCRIPTION:A fun way to help local children while racing to win!\nEnter the Diaper Derby and compete to collect the most diapers.  “Horse and jockey” teams will be running against other similarly sized businesses and organizations to see who will win their division and the Triple Crown!  From the Kentucky Derby to Preakness and ending with the Belmont Stakes – May 3rd to June 7th – support your team by purchasing diapers and wipes for local kids. \nIn 2023\, 37 participating businesses and organizations collected more than 127\,000 diapers for kids living right here in our community. \nIf you have questions about the Diaper Derby\, contact Tricia Barry at triciab@kidvantagenw.org or (425)372-7534.  You can also visit our webpage to learn more: www.kidvantagenw.org/diaper-derby \nREGISTRATION IS OPEN! REGISTER NOW
URL:https://kidvantagenw.org/event/kidvantage-diaperderby/
CATEGORIES:Bremerton Hub,Issaquah Hub,Shoreline Hub
ATTACH;FMTTYPE=image/png:https://kidvantagenw.org/wp-content/uploads/2024/03/DD24_PressBlock.png
ORGANIZER;CN="KidVantage":MAILTO:development@kidvantagenw.org
END:VEVENT
BEGIN:VEVENT
DTSTART;VALUE=DATE:20240619
DTEND;VALUE=DATE:20240620
DTSTAMP:20260421T014258
CREATED:20231212T171812Z
LAST-MODIFIED:20240614T212425Z
UID:3592-1718755200-1718841599@kidvantagenw.org
SUMMARY:KidVantage Closed
DESCRIPTION:KidVantage will be closed Wednesday\, June 19th\, in observance of Juneteenth.  Normal hours resume Thursday.  Donations hours are closed on June 18th at the Issaquah and Shoreline Hubs.
URL:https://kidvantagenw.org/event/kidvantage-office-hubs-closed/
CATEGORIES:Bremerton Hub,Issaquah Hub,Shoreline Hub
ATTACH;FMTTYPE=image/png:https://kidvantagenw.org/wp-content/uploads/2023/12/Juneteenth.png
END:VEVENT
END:VCALENDAR