BEGIN:VCALENDAR
VERSION:2.0
PRODID:-//KidVantage - ECPv6.15.17//NONSGML v1.0//EN
CALSCALE:GREGORIAN
METHOD:PUBLISH
X-WR-CALNAME:KidVantage
X-ORIGINAL-URL:https://kidvantagenw.org
X-WR-CALDESC:Events for KidVantage
REFRESH-INTERVAL;VALUE=DURATION:PT1H
X-Robots-Tag:noindex
X-PUBLISHED-TTL:PT1H
BEGIN:VTIMEZONE
TZID:America/Los_Angeles
BEGIN:DAYLIGHT
TZOFFSETFROM:-0800
TZOFFSETTO:-0700
TZNAME:PDT
DTSTART:20220313T100000
END:DAYLIGHT
BEGIN:STANDARD
TZOFFSETFROM:-0700
TZOFFSETTO:-0800
TZNAME:PST
DTSTART:20221106T090000
END:STANDARD
BEGIN:DAYLIGHT
TZOFFSETFROM:-0800
TZOFFSETTO:-0700
TZNAME:PDT
DTSTART:20230312T100000
END:DAYLIGHT
BEGIN:STANDARD
TZOFFSETFROM:-0700
TZOFFSETTO:-0800
TZNAME:PST
DTSTART:20231105T090000
END:STANDARD
BEGIN:DAYLIGHT
TZOFFSETFROM:-0800
TZOFFSETTO:-0700
TZNAME:PDT
DTSTART:20240310T100000
END:DAYLIGHT
BEGIN:STANDARD
TZOFFSETFROM:-0700
TZOFFSETTO:-0800
TZNAME:PST
DTSTART:20241103T090000
END:STANDARD
END:VTIMEZONE
BEGIN:VEVENT
DTSTART;TZID=America/Los_Angeles:20230810T100000
DTEND;TZID=America/Los_Angeles:20230810T130000
DTSTAMP:20260425T033311
CREATED:20230713T202841Z
LAST-MODIFIED:20230724T165427Z
UID:3266-1691661600-1691672400@kidvantagenw.org
SUMMARY:Pencils & Pants Van Visit (Kirkland)
DESCRIPTION:KidVantage’s van will be out in the community collecting for our back-to-school campaign\, Pencils & Pants!  Bring needed school supplies and back-to-school clothing from our drive list and drop them off with us!  Find us outside of City of Kirkland’s building!\nCan’t make a drop-off event?  Donate school supplies and clothing from our Giving Catalog and have your purchases sent directly to KidVantage!
URL:https://kidvantagenw.org/event/van-visit-kirkland/
LOCATION:City of Kirkland\, 123 5th Ave\, Kirkland\, WA\, 98033\, United States
ATTACH;FMTTYPE=image/png:https://kidvantagenw.org/wp-content/uploads/2023/07/1.png
ORGANIZER;CN="KidVantage":MAILTO:development@kidvantagenw.org
END:VEVENT
BEGIN:VEVENT
DTSTART;TZID=America/Los_Angeles:20230816T100000
DTEND;TZID=America/Los_Angeles:20230816T130000
DTSTAMP:20260425T033311
CREATED:20230717T232343Z
LAST-MODIFIED:20230724T165447Z
UID:3283-1692180000-1692190800@kidvantagenw.org
SUMMARY:Pencils & Pants Van Visit (Sammamish)
DESCRIPTION:KidVantage’s van will be out in the community collecting for our back-to-school campaign\, Pencils & Pants!  Bring needed school supplies and back-to-school clothing from our drive list and drop them off with us!  Find us outside of the CWU Sammamish Campus.\nCan’t make a drop-off event?  Donate school supplies and clothing from our Giving Catalog and have your purchases sent directly to KidVantage!
URL:https://kidvantagenw.org/event/van-visit-sammamish/
LOCATION:CWU Sammamish\, 120 228th Ave NE\, Sammamish\, WA\, 98074\, United States
ATTACH;FMTTYPE=image/png:https://kidvantagenw.org/wp-content/uploads/2023/07/1.png
ORGANIZER;CN="KidVantage":MAILTO:development@kidvantagenw.org
END:VEVENT
BEGIN:VEVENT
DTSTART;TZID=America/Los_Angeles:20230817T100000
DTEND;TZID=America/Los_Angeles:20230817T130000
DTSTAMP:20260425T033311
CREATED:20230718T200709Z
LAST-MODIFIED:20230724T165516Z
UID:3287-1692266400-1692277200@kidvantagenw.org
SUMMARY:Pencils & Pants Van Visit (Renton)
DESCRIPTION:KidVantage’s van will be out in the community collecting for our back-to-school campaign\, Pencils & Pants!  Bring needed school supplies and back-to-school clothing from our drive list and drop them off with us!  Find us outside of the Renton Community Center.\nCan’t make a drop-off event?  Donate school supplies and clothing from our Giving Catalog and have your purchases sent directly to KidVantage!
URL:https://kidvantagenw.org/event/van-visit-renton/
LOCATION:Renton Community Center\, 1715 Maple Valley Hwy\, Renton\, Washington\, 98057
ATTACH;FMTTYPE=image/png:https://kidvantagenw.org/wp-content/uploads/2023/07/1.png
ORGANIZER;CN="KidVantage":MAILTO:development@kidvantagenw.org
END:VEVENT
END:VCALENDAR