BEGIN:VCALENDAR
VERSION:2.0
PRODID:-//KidVantage - ECPv6.15.17//NONSGML v1.0//EN
CALSCALE:GREGORIAN
METHOD:PUBLISH
X-WR-CALNAME:KidVantage
X-ORIGINAL-URL:https://kidvantagenw.org
X-WR-CALDESC:Events for KidVantage
REFRESH-INTERVAL;VALUE=DURATION:PT1H
X-Robots-Tag:noindex
X-PUBLISHED-TTL:PT1H
BEGIN:VTIMEZONE
TZID:America/Los_Angeles
BEGIN:DAYLIGHT
TZOFFSETFROM:-0800
TZOFFSETTO:-0700
TZNAME:PDT
DTSTART:20230312T100000
END:DAYLIGHT
BEGIN:STANDARD
TZOFFSETFROM:-0700
TZOFFSETTO:-0800
TZNAME:PST
DTSTART:20231105T090000
END:STANDARD
BEGIN:DAYLIGHT
TZOFFSETFROM:-0800
TZOFFSETTO:-0700
TZNAME:PDT
DTSTART:20240310T100000
END:DAYLIGHT
BEGIN:STANDARD
TZOFFSETFROM:-0700
TZOFFSETTO:-0800
TZNAME:PST
DTSTART:20241103T090000
END:STANDARD
BEGIN:DAYLIGHT
TZOFFSETFROM:-0800
TZOFFSETTO:-0700
TZNAME:PDT
DTSTART:20250309T100000
END:DAYLIGHT
BEGIN:STANDARD
TZOFFSETFROM:-0700
TZOFFSETTO:-0800
TZNAME:PST
DTSTART:20251102T090000
END:STANDARD
END:VTIMEZONE
BEGIN:VEVENT
DTSTART;VALUE=DATE:20240416
DTEND;VALUE=DATE:20240417
DTSTAMP:20260423T062725
CREATED:20220331T174433Z
LAST-MODIFIED:20240322T174727Z
UID:2016-1713225600-1713311999@kidvantagenw.org
SUMMARY:Kitsap Great Give
DESCRIPTION:Here is your chance to support KidVantage Bremerton!\n On April 16th Kitsap Great Give will take place. This is an online day of giving meant to ignite local giving. To check out the impact and our reach in Kitsap County\, visit our page at https://www.kitsapgreatgive.org/organization/Kidvantage   \n  Our goal is to raise $3\,000 – great news that every dollar you give by the 16th will be boosted by 5% thanks to Kitsap Great Give Sponsors!  \nGive Today!
URL:https://kidvantagenw.org/event/kitsap-great-give/
LOCATION:Bremerton Hub\, 1463 NE Dawn RD Ste B\, Bremerton\, WA\, United States
CATEGORIES:Bremerton Hub
ATTACH;FMTTYPE=image/jpeg:https://kidvantagenw.org/wp-content/uploads/2022/03/KGG_2024_general.jpg
ORGANIZER;CN="KidVantage":MAILTO:development@kidvantagenw.org
END:VEVENT
END:VCALENDAR